BEGIN:VCALENDAR
CALSCALE:GREGORIAN
X-WR-TIMEZONE;VALUE=TEXT:GMT
PRODID:ANTIQUES PROMOTION - APCal -VERSION:2.0
METHOD:PUBLISH
BEGIN:VTIMEZONE
TZID:GMT
BEGIN:STANDARD
DTSTART:19390101T000000
TZOFFSETFROM:+0000
TZOFFSETTO:+0000
TZNAME:GMT
END:STANDARD
END:VTIMEZONE
BEGIN:VEVENT
DTSTART;VALUE=DATE:20260528
DTEND;VALUE=DATE:20260531
LOCATION:Le Puy En Velay
TRANSP:OPAQUE
SEQUENCE:0
UID:apcal060-831717bbbf29d7e697ec4d1a24d3cc95
DTSTAMP:20260105T185942Z
CATEGORIES:
DESCRIPTION:Nous nous retrouverons pour notre prochaine réunion nationale à :\n<div style="text-align: center;">l'Hotel l'ABRI (Relais motard)\n30 rue de Sumène\n43700 BLAVOSY\nTèl : 0471030203</div>\n<div style="text-align: center;">Lien vers le site d'inscription:\n<a href="http://vrcc-france.com/TDP2026/index.html" rel="external" title="">Inscription en ligne</a></div>
SUMMARY:Les Terres Du Puy
PRIORITY:0
CLASS:PUBLIC
END:VEVENT
END:VCALENDAR
